BEGIN:VCALENDAR
VERSION:2.0
PRODID:-//eventon.com NONSGML v1.0//EN
CALSCALE:GREGORIAN
METHOD:PUBLISH
BEGIN:VEVENT
UID:69e8a36a1998d
DTSTAMP:20260422T103106Z
DTSTART:20231223T010000Z
DTEND:20231224T100000Z
LOCATION:
SUMMARY:Kejurda Jabar Road Race Putaran 3 2023 Indramayu
DESCRIPTION:Kejurda Jabar Road Race Putaran 3 2023 Indramayu\nhttps://motos
 tylerz.com/events/kejurda-jabar-road-race-putaran-3-2023-indramayu/
URL:https://motostylerz.com/events/kejurda-jabar-road-race-putaran-3-2023-indramayu/
END:VEVENT
END:VCALENDAR