BEGIN:VCALENDAR
VERSION:2.0
PRODID:-//eventon.com NONSGML v1.0//EN
CALSCALE:GREGORIAN
METHOD:PUBLISH
BEGIN:VEVENT
UID:69e8a37dd4518
DTSTAMP:20260422T103125Z
DTSTART:20231231T010000Z
DTEND:20231231T130000Z
LOCATION:
SUMMARY:Bangka Garage 86 Meet Up & Moto Show 2023 - Bangka
DESCRIPTION:Bangka Garage 86 Meet Up & Moto Show 2023 - Bangka\nhttps://mot
 ostylerz.com/events/bangka-garage-86-meet-up-moto-show-2023-bangka/
URL:https://motostylerz.com/events/bangka-garage-86-meet-up-moto-show-2023-bangka/
END:VEVENT
END:VCALENDAR